BEGIN:VCALENDAR
VERSION:2.0
PRODID:-//Our Lady Of the Lake Catholic Church - ECPv6.15.20//NONSGML v1.0//EN
CALSCALE:GREGORIAN
METHOD:PUBLISH
X-ORIGINAL-URL:https://ourladyofthelake.us
X-WR-CALDESC:Events for Our Lady Of the Lake Catholic Church
REFRESH-INTERVAL;VALUE=DURATION:PT1H
X-Robots-Tag:noindex
X-PUBLISHED-TTL:PT1H
BEGIN:VTIMEZONE
TZID:UTC
BEGIN:STANDARD
TZOFFSETFROM:+0000
TZOFFSETTO:+0000
TZNAME:UTC
DTSTART:20240101T000000
END:STANDARD
END:VTIMEZONE
BEGIN:VEVENT
DTSTART;TZID=UTC:20250103T080000
DTEND;TZID=UTC:20250103T090000
DTSTAMP:20260420T005232
CREATED:20220801T172038Z
LAST-MODIFIED:20220801T172038Z
UID:4905-1735891200-1735894800@ourladyofthelake.us
SUMMARY:Mass
DESCRIPTION:
URL:https://ourladyofthelake.us/event/mass-2/2025-01-03/
CATEGORIES:Masses
END:VEVENT
END:VCALENDAR