BEGIN:VCALENDAR
VERSION:2.0
PRODID:-//Our Lady Of the Lake Catholic Church - ECPv6.15.20//NONSGML v1.0//EN
CALSCALE:GREGORIAN
METHOD:PUBLISH
X-WR-CALNAME:Our Lady Of the Lake Catholic Church
X-ORIGINAL-URL:https://ourladyofthelake.us
X-WR-CALDESC:Events for Our Lady Of the Lake Catholic Church
REFRESH-INTERVAL;VALUE=DURATION:PT1H
X-Robots-Tag:noindex
X-PUBLISHED-TTL:PT1H
BEGIN:VTIMEZONE
TZID:UTC
BEGIN:STANDARD
TZOFFSETFROM:+0000
TZOFFSETTO:+0000
TZNAME:UTC
DTSTART:20210101T000000
END:STANDARD
END:VTIMEZONE
BEGIN:VEVENT
DTSTART;TZID=UTC:20240511T163000
DTEND;TZID=UTC:20240511T170000
DTSTAMP:20260419T192901
CREATED:20220711T171029Z
LAST-MODIFIED:20221217T105130Z
UID:1560-1715445000-1715446800@ourladyofthelake.us
SUMMARY:Rosary
DESCRIPTION:
URL:https://ourladyofthelake.us/event/rosary/2024-05-11/
CATEGORIES:Rosary
END:VEVENT
BEGIN:VEVENT
DTSTART;TZID=UTC:20240510T080000
DTEND;TZID=UTC:20240510T090000
DTSTAMP:20260419T192901
CREATED:20220801T172038Z
LAST-MODIFIED:20221217T105813Z
UID:2815-1715328000-1715331600@ourladyofthelake.us
SUMMARY:Mass
DESCRIPTION:
URL:https://ourladyofthelake.us/event/mass-2/2024-05-10/
CATEGORIES:Masses
END:VEVENT
BEGIN:VEVENT
DTSTART;TZID=UTC:20240509T080000
DTEND;TZID=UTC:20240509T090000
DTSTAMP:20260419T192901
CREATED:20220801T172038Z
LAST-MODIFIED:20221217T105813Z
UID:2814-1715241600-1715245200@ourladyofthelake.us
SUMMARY:Mass
DESCRIPTION:
URL:https://ourladyofthelake.us/event/mass-2/2024-05-09/
CATEGORIES:Masses
END:VEVENT
BEGIN:VEVENT
DTSTART;TZID=UTC:20240507T080000
DTEND;TZID=UTC:20240507T090000
DTSTAMP:20260419T192901
CREATED:20220801T172038Z
LAST-MODIFIED:20221217T105813Z
UID:2813-1715068800-1715072400@ourladyofthelake.us
SUMMARY:Mass
DESCRIPTION:
URL:https://ourladyofthelake.us/event/mass-2/2024-05-07/
CATEGORIES:Masses
END:VEVENT
BEGIN:VEVENT
DTSTART;TZID=UTC:20240505T090000
DTEND;TZID=UTC:20240505T100000
DTSTAMP:20260419T192901
CREATED:20220708T214412Z
LAST-MODIFIED:20221217T110003Z
UID:1394-1714899600-1714903200@ourladyofthelake.us
SUMMARY:Mass
DESCRIPTION:
URL:https://ourladyofthelake.us/event/mass/2024-05-05/
CATEGORIES:Masses
END:VEVENT
BEGIN:VEVENT
DTSTART;TZID=UTC:20240504T163000
DTEND;TZID=UTC:20240504T170000
DTSTAMP:20260419T192901
CREATED:20220711T171029Z
LAST-MODIFIED:20221217T105130Z
UID:1559-1714840200-1714842000@ourladyofthelake.us
SUMMARY:Rosary
DESCRIPTION:
URL:https://ourladyofthelake.us/event/rosary/2024-05-04/
CATEGORIES:Rosary
END:VEVENT
BEGIN:VEVENT
DTSTART;TZID=UTC:20240503T080000
DTEND;TZID=UTC:20240503T090000
DTSTAMP:20260419T192901
CREATED:20220801T172038Z
LAST-MODIFIED:20221217T105813Z
UID:2812-1714723200-1714726800@ourladyofthelake.us
SUMMARY:Mass
DESCRIPTION:
URL:https://ourladyofthelake.us/event/mass-2/2024-05-03/
CATEGORIES:Masses
END:VEVENT
BEGIN:VEVENT
DTSTART;TZID=UTC:20240502T080000
DTEND;TZID=UTC:20240502T090000
DTSTAMP:20260419T192901
CREATED:20220801T172038Z
LAST-MODIFIED:20221217T105814Z
UID:2811-1714636800-1714640400@ourladyofthelake.us
SUMMARY:Mass
DESCRIPTION:
URL:https://ourladyofthelake.us/event/mass-2/2024-05-02/
CATEGORIES:Masses
END:VEVENT
BEGIN:VEVENT
DTSTART;TZID=UTC:20240430T080000
DTEND;TZID=UTC:20240430T090000
DTSTAMP:20260419T192901
CREATED:20220801T172038Z
LAST-MODIFIED:20221217T105814Z
UID:2810-1714464000-1714467600@ourladyofthelake.us
SUMMARY:Mass
DESCRIPTION:
URL:https://ourladyofthelake.us/event/mass-2/2024-04-30/
CATEGORIES:Masses
END:VEVENT
BEGIN:VEVENT
DTSTART;TZID=UTC:20240428T090000
DTEND;TZID=UTC:20240428T100000
DTSTAMP:20260419T192901
CREATED:20220708T214412Z
LAST-MODIFIED:20221217T110004Z
UID:1393-1714294800-1714298400@ourladyofthelake.us
SUMMARY:Mass
DESCRIPTION:
URL:https://ourladyofthelake.us/event/mass/2024-04-28/
CATEGORIES:Masses
END:VEVENT
BEGIN:VEVENT
DTSTART;TZID=UTC:20240427T163000
DTEND;TZID=UTC:20240427T170000
DTSTAMP:20260419T192901
CREATED:20220711T171029Z
LAST-MODIFIED:20221217T105131Z
UID:1558-1714235400-1714237200@ourladyofthelake.us
SUMMARY:Rosary
DESCRIPTION:
URL:https://ourladyofthelake.us/event/rosary/2024-04-27/
CATEGORIES:Rosary
END:VEVENT
BEGIN:VEVENT
DTSTART;TZID=UTC:20240426T080000
DTEND;TZID=UTC:20240426T090000
DTSTAMP:20260419T192901
CREATED:20220801T172038Z
LAST-MODIFIED:20221217T105814Z
UID:2809-1714118400-1714122000@ourladyofthelake.us
SUMMARY:Mass
DESCRIPTION:
URL:https://ourladyofthelake.us/event/mass-2/2024-04-26/
CATEGORIES:Masses
END:VEVENT
BEGIN:VEVENT
DTSTART;TZID=UTC:20240425T080000
DTEND;TZID=UTC:20240425T090000
DTSTAMP:20260419T192901
CREATED:20220801T172038Z
LAST-MODIFIED:20221217T105814Z
UID:2808-1714032000-1714035600@ourladyofthelake.us
SUMMARY:Mass
DESCRIPTION:
URL:https://ourladyofthelake.us/event/mass-2/2024-04-25/
CATEGORIES:Masses
END:VEVENT
BEGIN:VEVENT
DTSTART;TZID=UTC:20240423T080000
DTEND;TZID=UTC:20240423T090000
DTSTAMP:20260419T192901
CREATED:20220801T172038Z
LAST-MODIFIED:20221217T105814Z
UID:2807-1713859200-1713862800@ourladyofthelake.us
SUMMARY:Mass
DESCRIPTION:
URL:https://ourladyofthelake.us/event/mass-2/2024-04-23/
CATEGORIES:Masses
END:VEVENT
BEGIN:VEVENT
DTSTART;TZID=UTC:20240421T090000
DTEND;TZID=UTC:20240421T100000
DTSTAMP:20260419T192901
CREATED:20220708T214412Z
LAST-MODIFIED:20221217T110004Z
UID:1392-1713690000-1713693600@ourladyofthelake.us
SUMMARY:Mass
DESCRIPTION:
URL:https://ourladyofthelake.us/event/mass/2024-04-21/
CATEGORIES:Masses
END:VEVENT
BEGIN:VEVENT
DTSTART;TZID=UTC:20240420T163000
DTEND;TZID=UTC:20240420T170000
DTSTAMP:20260419T192901
CREATED:20220711T171029Z
LAST-MODIFIED:20221217T105131Z
UID:1557-1713630600-1713632400@ourladyofthelake.us
SUMMARY:Rosary
DESCRIPTION:
URL:https://ourladyofthelake.us/event/rosary/2024-04-20/
CATEGORIES:Rosary
END:VEVENT
BEGIN:VEVENT
DTSTART;TZID=UTC:20240419T080000
DTEND;TZID=UTC:20240419T090000
DTSTAMP:20260419T192901
CREATED:20220801T172038Z
LAST-MODIFIED:20221217T105814Z
UID:2806-1713513600-1713517200@ourladyofthelake.us
SUMMARY:Mass
DESCRIPTION:
URL:https://ourladyofthelake.us/event/mass-2/2024-04-19/
CATEGORIES:Masses
END:VEVENT
BEGIN:VEVENT
DTSTART;TZID=UTC:20230805T170000
DTEND;TZID=UTC:20230805T180000
DTSTAMP:20260419T192901
CREATED:20220711T174541Z
LAST-MODIFIED:20221217T105956Z
UID:975-1691254800-1691258400@ourladyofthelake.us
SUMMARY:Mass
DESCRIPTION:
URL:https://ourladyofthelake.us/event/mass-3-2023-08-05/2023-08-05/
CATEGORIES:Masses
END:VEVENT
BEGIN:VEVENT
DTSTART;TZID=UTC:20230730T170000
DTEND;TZID=UTC:20230730T180000
DTSTAMP:20260419T192901
CREATED:20220711T174541Z
LAST-MODIFIED:20221217T105957Z
UID:974-1690736400-1690740000@ourladyofthelake.us
SUMMARY:Mass
DESCRIPTION:
URL:https://ourladyofthelake.us/event/mass-3-2023-07-30/
CATEGORIES:Masses
END:VEVENT
BEGIN:VEVENT
DTSTART;VALUE=DATE:20230201
DTEND;VALUE=DATE:20230202
DTSTAMP:20260419T192901
CREATED:20230104T184623Z
LAST-MODIFIED:20230104T184623Z
UID:4924-1675209600-1675295999@ourladyofthelake.us
SUMMARY:No Mass
DESCRIPTION:
URL:https://ourladyofthelake.us/event/no-mass-9/2023-02-01/
END:VEVENT
BEGIN:VEVENT
DTSTART;VALUE=DATE:20230125
DTEND;VALUE=DATE:20230126
DTSTAMP:20260419T192901
CREATED:20230104T183301Z
LAST-MODIFIED:20230104T183301Z
UID:4917-1674604800-1674691199@ourladyofthelake.us
SUMMARY:No Mass
DESCRIPTION:
URL:https://ourladyofthelake.us/event/no-mass-6/
END:VEVENT
BEGIN:VEVENT
DTSTART;VALUE=DATE:20230118
DTEND;VALUE=DATE:20230119
DTSTAMP:20260419T192901
CREATED:20230104T183217Z
LAST-MODIFIED:20230104T183217Z
UID:4915-1674000000-1674086399@ourladyofthelake.us
SUMMARY:No Mass
DESCRIPTION:
URL:https://ourladyofthelake.us/event/no-mass-5/
END:VEVENT
BEGIN:VEVENT
DTSTART;VALUE=DATE:20230111
DTEND;VALUE=DATE:20230112
DTSTAMP:20260419T192901
CREATED:20230104T183139Z
LAST-MODIFIED:20230104T183139Z
UID:4913-1673395200-1673481599@ourladyofthelake.us
SUMMARY:No Mass
DESCRIPTION:
URL:https://ourladyofthelake.us/event/no-mass-4/
END:VEVENT
BEGIN:VEVENT
DTSTART;VALUE=DATE:20230104
DTEND;VALUE=DATE:20230105
DTSTAMP:20260419T192901
CREATED:20230104T184107Z
LAST-MODIFIED:20230104T184410Z
UID:4919-1672790400-1672876799@ourladyofthelake.us
SUMMARY:No Mass
DESCRIPTION:
URL:https://ourladyofthelake.us/event/no-mass-7/2023-01-04/
END:VEVENT
BEGIN:VEVENT
DTSTART;TZID=UTC:20230104T000000
DTEND;TZID=UTC:20230104T000000
DTSTAMP:20260419T192901
CREATED:20230104T174550Z
LAST-MODIFIED:20230104T174904Z
UID:4906-1672790400-1672790400@ourladyofthelake.us
SUMMARY:No Mass
DESCRIPTION:
URL:https://ourladyofthelake.us/event/no-mass/2023-01-04/
END:VEVENT
BEGIN:VEVENT
DTSTART;VALUE=DATE:20230104
DTEND;VALUE=DATE:20230105
DTSTAMP:20260419T192901
CREATED:20221217T110304Z
LAST-MODIFIED:20230104T182021Z
UID:3608-1672790400-1672876799@ourladyofthelake.us
SUMMARY:No Mass
DESCRIPTION:
URL:https://ourladyofthelake.us/event/confe/
END:VEVENT
BEGIN:VEVENT
DTSTART;VALUE=DATE:20230104
DTEND;VALUE=DATE:20230105
DTSTAMP:20260419T192901
CREATED:20230104T182941Z
LAST-MODIFIED:20230104T182941Z
UID:4911-1672790400-1672876799@ourladyofthelake.us
SUMMARY:No Mass
DESCRIPTION:
URL:https://ourladyofthelake.us/event/no-mass-3/
END:VEVENT
BEGIN:VEVENT
DTSTART;VALUE=DATE:20230104
DTEND;VALUE=DATE:20230105
DTSTAMP:20260419T192901
CREATED:20230104T182729Z
LAST-MODIFIED:20230104T182747Z
UID:4909-1672790400-1672876799@ourladyofthelake.us
SUMMARY:No Mass
DESCRIPTION:
URL:https://ourladyofthelake.us/event/no-mass-2/
CATEGORIES:Masses
END:VEVENT
BEGIN:VEVENT
DTSTART;VALUE=DATE:20230102
DTEND;VALUE=DATE:20230103
DTSTAMP:20260419T192901
CREATED:20230104T184523Z
LAST-MODIFIED:20230104T184523Z
UID:4922-1672617600-1672703999@ourladyofthelake.us
SUMMARY:No Mass
DESCRIPTION:
URL:https://ourladyofthelake.us/event/no-mass-8/
END:VEVENT
BEGIN:VEVENT
DTSTART;VALUE=DATE:20221225
DTEND;VALUE=DATE:20221226
DTSTAMP:20260419T192901
CREATED:20220728T030259Z
LAST-MODIFIED:20220728T032250Z
UID:1111-1671926400-1672012799@ourladyofthelake.us
SUMMARY:Christmas
DESCRIPTION:
URL:https://ourladyofthelake.us/event/christmas/
END:VEVENT
END:VCALENDAR