BEGIN:VCALENDAR
VERSION:2.0
PRODID:-//Our Lady Of the Lake Catholic Church - ECPv6.15.20//NONSGML v1.0//EN
CALSCALE:GREGORIAN
METHOD:PUBLISH
X-WR-CALNAME:Our Lady Of the Lake Catholic Church
X-ORIGINAL-URL:https://ourladyofthelake.us
X-WR-CALDESC:Events for Our Lady Of the Lake Catholic Church
REFRESH-INTERVAL;VALUE=DURATION:PT1H
X-Robots-Tag:noindex
X-PUBLISHED-TTL:PT1H
BEGIN:VTIMEZONE
TZID:UTC
BEGIN:STANDARD
TZOFFSETFROM:+0000
TZOFFSETTO:+0000
TZNAME:UTC
DTSTART:20230101T000000
END:STANDARD
END:VTIMEZONE
BEGIN:VEVENT
DTSTART;TZID=UTC:20240614T080000
DTEND;TZID=UTC:20240614T090000
DTSTAMP:20260419T160453
CREATED:20220801T172038Z
LAST-MODIFIED:20221217T105810Z
UID:2830-1718352000-1718355600@ourladyofthelake.us
SUMMARY:Mass
DESCRIPTION:
URL:https://ourladyofthelake.us/event/mass-2/2024-06-14/
CATEGORIES:Masses
END:VEVENT
BEGIN:VEVENT
DTSTART;TZID=UTC:20240613T080000
DTEND;TZID=UTC:20240613T090000
DTSTAMP:20260419T160453
CREATED:20220801T172038Z
LAST-MODIFIED:20221217T105810Z
UID:2829-1718265600-1718269200@ourladyofthelake.us
SUMMARY:Mass
DESCRIPTION:
URL:https://ourladyofthelake.us/event/mass-2/2024-06-13/
CATEGORIES:Masses
END:VEVENT
BEGIN:VEVENT
DTSTART;TZID=UTC:20240611T080000
DTEND;TZID=UTC:20240611T090000
DTSTAMP:20260419T160453
CREATED:20220801T172038Z
LAST-MODIFIED:20221217T105810Z
UID:2828-1718092800-1718096400@ourladyofthelake.us
SUMMARY:Mass
DESCRIPTION:
URL:https://ourladyofthelake.us/event/mass-2/2024-06-11/
CATEGORIES:Masses
END:VEVENT
BEGIN:VEVENT
DTSTART;TZID=UTC:20240609T090000
DTEND;TZID=UTC:20240609T100000
DTSTAMP:20260419T160453
CREATED:20220708T214412Z
LAST-MODIFIED:20221217T110002Z
UID:1399-1717923600-1717927200@ourladyofthelake.us
SUMMARY:Mass
DESCRIPTION:
URL:https://ourladyofthelake.us/event/mass/2024-06-09/
CATEGORIES:Masses
END:VEVENT
BEGIN:VEVENT
DTSTART;TZID=UTC:20240608T163000
DTEND;TZID=UTC:20240608T170000
DTSTAMP:20260419T160453
CREATED:20220711T171029Z
LAST-MODIFIED:20221217T105129Z
UID:1564-1717864200-1717866000@ourladyofthelake.us
SUMMARY:Rosary
DESCRIPTION:
URL:https://ourladyofthelake.us/event/rosary/2024-06-08/
CATEGORIES:Rosary
END:VEVENT
BEGIN:VEVENT
DTSTART;TZID=UTC:20240607T080000
DTEND;TZID=UTC:20240607T090000
DTSTAMP:20260419T160453
CREATED:20220801T172038Z
LAST-MODIFIED:20221217T105810Z
UID:2827-1717747200-1717750800@ourladyofthelake.us
SUMMARY:Mass
DESCRIPTION:
URL:https://ourladyofthelake.us/event/mass-2/2024-06-07/
CATEGORIES:Masses
END:VEVENT
BEGIN:VEVENT
DTSTART;TZID=UTC:20240606T080000
DTEND;TZID=UTC:20240606T090000
DTSTAMP:20260419T160453
CREATED:20220801T172038Z
LAST-MODIFIED:20221217T105810Z
UID:2826-1717660800-1717664400@ourladyofthelake.us
SUMMARY:Mass
DESCRIPTION:
URL:https://ourladyofthelake.us/event/mass-2/2024-06-06/
CATEGORIES:Masses
END:VEVENT
BEGIN:VEVENT
DTSTART;TZID=UTC:20240604T080000
DTEND;TZID=UTC:20240604T090000
DTSTAMP:20260419T160453
CREATED:20220801T172038Z
LAST-MODIFIED:20221217T105811Z
UID:2825-1717488000-1717491600@ourladyofthelake.us
SUMMARY:Mass
DESCRIPTION:
URL:https://ourladyofthelake.us/event/mass-2/2024-06-04/
CATEGORIES:Masses
END:VEVENT
BEGIN:VEVENT
DTSTART;TZID=UTC:20240602T090000
DTEND;TZID=UTC:20240602T100000
DTSTAMP:20260419T160453
CREATED:20220708T214412Z
LAST-MODIFIED:20221217T110003Z
UID:1398-1717318800-1717322400@ourladyofthelake.us
SUMMARY:Mass
DESCRIPTION:
URL:https://ourladyofthelake.us/event/mass/2024-06-02/
CATEGORIES:Masses
END:VEVENT
BEGIN:VEVENT
DTSTART;TZID=UTC:20240601T163000
DTEND;TZID=UTC:20240601T170000
DTSTAMP:20260419T160453
CREATED:20220711T171029Z
LAST-MODIFIED:20221217T105130Z
UID:1563-1717259400-1717261200@ourladyofthelake.us
SUMMARY:Rosary
DESCRIPTION:
URL:https://ourladyofthelake.us/event/rosary/2024-06-01/
CATEGORIES:Rosary
END:VEVENT
BEGIN:VEVENT
DTSTART;TZID=UTC:20240531T080000
DTEND;TZID=UTC:20240531T090000
DTSTAMP:20260419T160453
CREATED:20220801T172038Z
LAST-MODIFIED:20221217T105811Z
UID:2824-1717142400-1717146000@ourladyofthelake.us
SUMMARY:Mass
DESCRIPTION:
URL:https://ourladyofthelake.us/event/mass-2/2024-05-31/
CATEGORIES:Masses
END:VEVENT
BEGIN:VEVENT
DTSTART;TZID=UTC:20240530T080000
DTEND;TZID=UTC:20240530T090000
DTSTAMP:20260419T160453
CREATED:20220801T172038Z
LAST-MODIFIED:20221217T105811Z
UID:2823-1717056000-1717059600@ourladyofthelake.us
SUMMARY:Mass
DESCRIPTION:
URL:https://ourladyofthelake.us/event/mass-2/2024-05-30/
CATEGORIES:Masses
END:VEVENT
BEGIN:VEVENT
DTSTART;TZID=UTC:20240528T080000
DTEND;TZID=UTC:20240528T090000
DTSTAMP:20260419T160453
CREATED:20220801T172038Z
LAST-MODIFIED:20221217T105811Z
UID:2822-1716883200-1716886800@ourladyofthelake.us
SUMMARY:Mass
DESCRIPTION:
URL:https://ourladyofthelake.us/event/mass-2/2024-05-28/
CATEGORIES:Masses
END:VEVENT
BEGIN:VEVENT
DTSTART;TZID=UTC:20240526T090000
DTEND;TZID=UTC:20240526T100000
DTSTAMP:20260419T160453
CREATED:20220708T214412Z
LAST-MODIFIED:20221217T110003Z
UID:1397-1716714000-1716717600@ourladyofthelake.us
SUMMARY:Mass
DESCRIPTION:
URL:https://ourladyofthelake.us/event/mass/2024-05-26/
CATEGORIES:Masses
END:VEVENT
BEGIN:VEVENT
DTSTART;TZID=UTC:20240525T163000
DTEND;TZID=UTC:20240525T170000
DTSTAMP:20260419T160453
CREATED:20220711T171029Z
LAST-MODIFIED:20221217T105130Z
UID:1562-1716654600-1716656400@ourladyofthelake.us
SUMMARY:Rosary
DESCRIPTION:
URL:https://ourladyofthelake.us/event/rosary/2024-05-25/
CATEGORIES:Rosary
END:VEVENT
BEGIN:VEVENT
DTSTART;TZID=UTC:20240524T080000
DTEND;TZID=UTC:20240524T090000
DTSTAMP:20260419T160453
CREATED:20220801T172038Z
LAST-MODIFIED:20221217T105811Z
UID:2821-1716537600-1716541200@ourladyofthelake.us
SUMMARY:Mass
DESCRIPTION:
URL:https://ourladyofthelake.us/event/mass-2/2024-05-24/
CATEGORIES:Masses
END:VEVENT
BEGIN:VEVENT
DTSTART;TZID=UTC:20240523T080000
DTEND;TZID=UTC:20240523T090000
DTSTAMP:20260419T160453
CREATED:20220801T172038Z
LAST-MODIFIED:20221217T105812Z
UID:2820-1716451200-1716454800@ourladyofthelake.us
SUMMARY:Mass
DESCRIPTION:
URL:https://ourladyofthelake.us/event/mass-2/2024-05-23/
CATEGORIES:Masses
END:VEVENT
BEGIN:VEVENT
DTSTART;TZID=UTC:20240521T080000
DTEND;TZID=UTC:20240521T090000
DTSTAMP:20260419T160453
CREATED:20220801T172038Z
LAST-MODIFIED:20221217T105812Z
UID:2819-1716278400-1716282000@ourladyofthelake.us
SUMMARY:Mass
DESCRIPTION:
URL:https://ourladyofthelake.us/event/mass-2/2024-05-21/
CATEGORIES:Masses
END:VEVENT
BEGIN:VEVENT
DTSTART;TZID=UTC:20240519T090000
DTEND;TZID=UTC:20240519T100000
DTSTAMP:20260419T160453
CREATED:20220708T214412Z
LAST-MODIFIED:20221217T110003Z
UID:1396-1716109200-1716112800@ourladyofthelake.us
SUMMARY:Mass
DESCRIPTION:
URL:https://ourladyofthelake.us/event/mass/2024-05-19/
CATEGORIES:Masses
END:VEVENT
BEGIN:VEVENT
DTSTART;TZID=UTC:20240518T163000
DTEND;TZID=UTC:20240518T170000
DTSTAMP:20260419T160453
CREATED:20220711T171029Z
LAST-MODIFIED:20221217T105130Z
UID:1561-1716049800-1716051600@ourladyofthelake.us
SUMMARY:Rosary
DESCRIPTION:
URL:https://ourladyofthelake.us/event/rosary/2024-05-18/
CATEGORIES:Rosary
END:VEVENT
BEGIN:VEVENT
DTSTART;TZID=UTC:20240517T080000
DTEND;TZID=UTC:20240517T090000
DTSTAMP:20260419T160453
CREATED:20220801T172038Z
LAST-MODIFIED:20221217T105812Z
UID:2818-1715932800-1715936400@ourladyofthelake.us
SUMMARY:Mass
DESCRIPTION:
URL:https://ourladyofthelake.us/event/mass-2/2024-05-17/
CATEGORIES:Masses
END:VEVENT
BEGIN:VEVENT
DTSTART;TZID=UTC:20240516T080000
DTEND;TZID=UTC:20240516T090000
DTSTAMP:20260419T160453
CREATED:20220801T172038Z
LAST-MODIFIED:20221217T105812Z
UID:2817-1715846400-1715850000@ourladyofthelake.us
SUMMARY:Mass
DESCRIPTION:
URL:https://ourladyofthelake.us/event/mass-2/2024-05-16/
CATEGORIES:Masses
END:VEVENT
BEGIN:VEVENT
DTSTART;TZID=UTC:20240514T080000
DTEND;TZID=UTC:20240514T090000
DTSTAMP:20260419T160453
CREATED:20220801T172038Z
LAST-MODIFIED:20221217T105812Z
UID:2816-1715673600-1715677200@ourladyofthelake.us
SUMMARY:Mass
DESCRIPTION:
URL:https://ourladyofthelake.us/event/mass-2/2024-05-14/
CATEGORIES:Masses
END:VEVENT
BEGIN:VEVENT
DTSTART;TZID=UTC:20240512T090000
DTEND;TZID=UTC:20240512T100000
DTSTAMP:20260419T160453
CREATED:20220708T214412Z
LAST-MODIFIED:20221217T110003Z
UID:1395-1715504400-1715508000@ourladyofthelake.us
SUMMARY:Mass
DESCRIPTION:
URL:https://ourladyofthelake.us/event/mass/2024-05-12/
CATEGORIES:Masses
END:VEVENT
BEGIN:VEVENT
DTSTART;TZID=UTC:20240511T163000
DTEND;TZID=UTC:20240511T170000
DTSTAMP:20260419T160453
CREATED:20220711T171029Z
LAST-MODIFIED:20221217T105130Z
UID:1560-1715445000-1715446800@ourladyofthelake.us
SUMMARY:Rosary
DESCRIPTION:
URL:https://ourladyofthelake.us/event/rosary/2024-05-11/
CATEGORIES:Rosary
END:VEVENT
BEGIN:VEVENT
DTSTART;TZID=UTC:20240510T080000
DTEND;TZID=UTC:20240510T090000
DTSTAMP:20260419T160453
CREATED:20220801T172038Z
LAST-MODIFIED:20221217T105813Z
UID:2815-1715328000-1715331600@ourladyofthelake.us
SUMMARY:Mass
DESCRIPTION:
URL:https://ourladyofthelake.us/event/mass-2/2024-05-10/
CATEGORIES:Masses
END:VEVENT
BEGIN:VEVENT
DTSTART;TZID=UTC:20240509T080000
DTEND;TZID=UTC:20240509T090000
DTSTAMP:20260419T160453
CREATED:20220801T172038Z
LAST-MODIFIED:20221217T105813Z
UID:2814-1715241600-1715245200@ourladyofthelake.us
SUMMARY:Mass
DESCRIPTION:
URL:https://ourladyofthelake.us/event/mass-2/2024-05-09/
CATEGORIES:Masses
END:VEVENT
BEGIN:VEVENT
DTSTART;TZID=UTC:20240507T080000
DTEND;TZID=UTC:20240507T090000
DTSTAMP:20260419T160453
CREATED:20220801T172038Z
LAST-MODIFIED:20221217T105813Z
UID:2813-1715068800-1715072400@ourladyofthelake.us
SUMMARY:Mass
DESCRIPTION:
URL:https://ourladyofthelake.us/event/mass-2/2024-05-07/
CATEGORIES:Masses
END:VEVENT
BEGIN:VEVENT
DTSTART;TZID=UTC:20240505T090000
DTEND;TZID=UTC:20240505T100000
DTSTAMP:20260419T160453
CREATED:20220708T214412Z
LAST-MODIFIED:20221217T110003Z
UID:1394-1714899600-1714903200@ourladyofthelake.us
SUMMARY:Mass
DESCRIPTION:
URL:https://ourladyofthelake.us/event/mass/2024-05-05/
CATEGORIES:Masses
END:VEVENT
BEGIN:VEVENT
DTSTART;TZID=UTC:20240504T163000
DTEND;TZID=UTC:20240504T170000
DTSTAMP:20260419T160453
CREATED:20220711T171029Z
LAST-MODIFIED:20221217T105130Z
UID:1559-1714840200-1714842000@ourladyofthelake.us
SUMMARY:Rosary
DESCRIPTION:
URL:https://ourladyofthelake.us/event/rosary/2024-05-04/
CATEGORIES:Rosary
END:VEVENT
END:VCALENDAR