BEGIN:VCALENDAR
VERSION:2.0
PRODID:-//Our Lady Of the Lake Catholic Church - ECPv6.15.20//NONSGML v1.0//EN
CALSCALE:GREGORIAN
METHOD:PUBLISH
X-WR-CALNAME:Our Lady Of the Lake Catholic Church
X-ORIGINAL-URL:https://ourladyofthelake.us
X-WR-CALDESC:Events for Our Lady Of the Lake Catholic Church
REFRESH-INTERVAL;VALUE=DURATION:PT1H
X-Robots-Tag:noindex
X-PUBLISHED-TTL:PT1H
BEGIN:VTIMEZONE
TZID:UTC
BEGIN:STANDARD
TZOFFSETFROM:+0000
TZOFFSETTO:+0000
TZNAME:UTC
DTSTART:20230101T000000
END:STANDARD
END:VTIMEZONE
BEGIN:VEVENT
DTSTART;TZID=UTC:20241114T080000
DTEND;TZID=UTC:20241114T090000
DTSTAMP:20260419T160356
CREATED:20220801T172038Z
LAST-MODIFIED:20221217T105713Z
UID:3578-1731571200-1731574800@ourladyofthelake.us
SUMMARY:Mass
DESCRIPTION:
URL:https://ourladyofthelake.us/event/mass-2/2024-11-14/
CATEGORIES:Masses
END:VEVENT
BEGIN:VEVENT
DTSTART;TZID=UTC:20241115T080000
DTEND;TZID=UTC:20241115T090000
DTSTAMP:20260419T160356
CREATED:20220801T172038Z
LAST-MODIFIED:20221217T105713Z
UID:3585-1731657600-1731661200@ourladyofthelake.us
SUMMARY:Mass
DESCRIPTION:
URL:https://ourladyofthelake.us/event/mass-2/2024-11-15/
CATEGORIES:Masses
END:VEVENT
BEGIN:VEVENT
DTSTART;TZID=UTC:20241116T163000
DTEND;TZID=UTC:20241116T170000
DTSTAMP:20260419T160356
CREATED:20220711T171029Z
LAST-MODIFIED:20221217T105125Z
UID:3586-1731774600-1731776400@ourladyofthelake.us
SUMMARY:Rosary
DESCRIPTION:
URL:https://ourladyofthelake.us/event/rosary/2024-11-16/
CATEGORIES:Rosary
END:VEVENT
BEGIN:VEVENT
DTSTART;TZID=UTC:20241117T090000
DTEND;TZID=UTC:20241117T100000
DTSTAMP:20260419T160356
CREATED:20220708T214412Z
LAST-MODIFIED:20221217T105958Z
UID:3593-1731834000-1731837600@ourladyofthelake.us
SUMMARY:Mass
DESCRIPTION:
URL:https://ourladyofthelake.us/event/mass-2024-07-21/2024-11-17/
CATEGORIES:Masses
END:VEVENT
BEGIN:VEVENT
DTSTART;TZID=UTC:20241119T080000
DTEND;TZID=UTC:20241119T090000
DTSTAMP:20260419T160356
CREATED:20220801T172038Z
LAST-MODIFIED:20221217T105712Z
UID:3604-1732003200-1732006800@ourladyofthelake.us
SUMMARY:Mass
DESCRIPTION:
URL:https://ourladyofthelake.us/event/mass-2/2024-11-19/
CATEGORIES:Masses
END:VEVENT
BEGIN:VEVENT
DTSTART;TZID=UTC:20241121T080000
DTEND;TZID=UTC:20241121T090000
DTSTAMP:20260419T160356
CREATED:20220801T172038Z
LAST-MODIFIED:20221217T105712Z
UID:3730-1732176000-1732179600@ourladyofthelake.us
SUMMARY:Mass
DESCRIPTION:
URL:https://ourladyofthelake.us/event/mass-2/2024-11-21/
CATEGORIES:Masses
END:VEVENT
BEGIN:VEVENT
DTSTART;TZID=UTC:20241122T080000
DTEND;TZID=UTC:20241122T090000
DTSTAMP:20260419T160356
CREATED:20220801T172038Z
LAST-MODIFIED:20221217T105712Z
UID:3731-1732262400-1732266000@ourladyofthelake.us
SUMMARY:Mass
DESCRIPTION:
URL:https://ourladyofthelake.us/event/mass-2/2024-11-22/
CATEGORIES:Masses
END:VEVENT
BEGIN:VEVENT
DTSTART;TZID=UTC:20241123T163000
DTEND;TZID=UTC:20241123T170000
DTSTAMP:20260419T160356
CREATED:20220711T171029Z
LAST-MODIFIED:20221217T105124Z
UID:3732-1732379400-1732381200@ourladyofthelake.us
SUMMARY:Rosary
DESCRIPTION:
URL:https://ourladyofthelake.us/event/rosary/2024-11-23/
CATEGORIES:Rosary
END:VEVENT
BEGIN:VEVENT
DTSTART;TZID=UTC:20241124T090000
DTEND;TZID=UTC:20241124T100000
DTSTAMP:20260419T160356
CREATED:20220708T214412Z
LAST-MODIFIED:20221217T105957Z
UID:3733-1732438800-1732442400@ourladyofthelake.us
SUMMARY:Mass
DESCRIPTION:
URL:https://ourladyofthelake.us/event/mass-2024-07-21/2024-11-24/
CATEGORIES:Masses
END:VEVENT
BEGIN:VEVENT
DTSTART;TZID=UTC:20241126T080000
DTEND;TZID=UTC:20241126T090000
DTSTAMP:20260419T160356
CREATED:20220801T172038Z
LAST-MODIFIED:20221217T105712Z
UID:3734-1732608000-1732611600@ourladyofthelake.us
SUMMARY:Mass
DESCRIPTION:
URL:https://ourladyofthelake.us/event/mass-2/2024-11-26/
CATEGORIES:Masses
END:VEVENT
BEGIN:VEVENT
DTSTART;TZID=UTC:20241128T080000
DTEND;TZID=UTC:20241128T090000
DTSTAMP:20260419T160356
CREATED:20220801T172038Z
LAST-MODIFIED:20221217T105712Z
UID:3762-1732780800-1732784400@ourladyofthelake.us
SUMMARY:Mass
DESCRIPTION:
URL:https://ourladyofthelake.us/event/mass-2/2024-11-28/
CATEGORIES:Masses
END:VEVENT
BEGIN:VEVENT
DTSTART;TZID=UTC:20241129T080000
DTEND;TZID=UTC:20241129T090000
DTSTAMP:20260419T160356
CREATED:20220801T172038Z
LAST-MODIFIED:20221217T105711Z
UID:3763-1732867200-1732870800@ourladyofthelake.us
SUMMARY:Mass
DESCRIPTION:
URL:https://ourladyofthelake.us/event/mass-2/2024-11-29/
CATEGORIES:Masses
END:VEVENT
BEGIN:VEVENT
DTSTART;TZID=UTC:20241130T163000
DTEND;TZID=UTC:20241130T170000
DTSTAMP:20260419T160356
CREATED:20220711T171029Z
LAST-MODIFIED:20221217T105124Z
UID:3764-1732984200-1732986000@ourladyofthelake.us
SUMMARY:Rosary
DESCRIPTION:
URL:https://ourladyofthelake.us/event/rosary/2024-11-30/
CATEGORIES:Rosary
END:VEVENT
BEGIN:VEVENT
DTSTART;TZID=UTC:20241201T090000
DTEND;TZID=UTC:20241201T100000
DTSTAMP:20260419T160356
CREATED:20220708T214412Z
LAST-MODIFIED:20221217T105957Z
UID:3765-1733043600-1733047200@ourladyofthelake.us
SUMMARY:Mass
DESCRIPTION:
URL:https://ourladyofthelake.us/event/mass-2024-07-21/2024-12-01/
CATEGORIES:Masses
END:VEVENT
BEGIN:VEVENT
DTSTART;TZID=UTC:20241203T080000
DTEND;TZID=UTC:20241203T090000
DTSTAMP:20260419T160356
CREATED:20220801T172038Z
LAST-MODIFIED:20221217T105711Z
UID:3766-1733212800-1733216400@ourladyofthelake.us
SUMMARY:Mass
DESCRIPTION:
URL:https://ourladyofthelake.us/event/mass-2/2024-12-03/
CATEGORIES:Masses
END:VEVENT
BEGIN:VEVENT
DTSTART;TZID=UTC:20241205T080000
DTEND;TZID=UTC:20241205T090000
DTSTAMP:20260419T160356
CREATED:20220801T172038Z
LAST-MODIFIED:20221217T105711Z
UID:3767-1733385600-1733389200@ourladyofthelake.us
SUMMARY:Mass
DESCRIPTION:
URL:https://ourladyofthelake.us/event/mass-2/2024-12-05/
CATEGORIES:Masses
END:VEVENT
BEGIN:VEVENT
DTSTART;TZID=UTC:20241206T080000
DTEND;TZID=UTC:20241206T090000
DTSTAMP:20260419T160356
CREATED:20220801T172038Z
LAST-MODIFIED:20221217T105711Z
UID:3768-1733472000-1733475600@ourladyofthelake.us
SUMMARY:Mass
DESCRIPTION:
URL:https://ourladyofthelake.us/event/mass-2/2024-12-06/
CATEGORIES:Masses
END:VEVENT
BEGIN:VEVENT
DTSTART;TZID=UTC:20241207T163000
DTEND;TZID=UTC:20241207T170000
DTSTAMP:20260419T160356
CREATED:20220711T171029Z
LAST-MODIFIED:20221217T105124Z
UID:3769-1733589000-1733590800@ourladyofthelake.us
SUMMARY:Rosary
DESCRIPTION:
URL:https://ourladyofthelake.us/event/rosary/2024-12-07/
CATEGORIES:Rosary
END:VEVENT
BEGIN:VEVENT
DTSTART;TZID=UTC:20241208T090000
DTEND;TZID=UTC:20241208T100000
DTSTAMP:20260419T160356
CREATED:20220708T214412Z
LAST-MODIFIED:20221217T105957Z
UID:3770-1733648400-1733652000@ourladyofthelake.us
SUMMARY:Mass
DESCRIPTION:
URL:https://ourladyofthelake.us/event/mass-2024-07-21/2024-12-08/
CATEGORIES:Masses
END:VEVENT
BEGIN:VEVENT
DTSTART;TZID=UTC:20241210T080000
DTEND;TZID=UTC:20241210T090000
DTSTAMP:20260419T160356
CREATED:20220801T172038Z
LAST-MODIFIED:20221217T105711Z
UID:3772-1733817600-1733821200@ourladyofthelake.us
SUMMARY:Mass
DESCRIPTION:
URL:https://ourladyofthelake.us/event/mass-2/2024-12-10/
CATEGORIES:Masses
END:VEVENT
BEGIN:VEVENT
DTSTART;TZID=UTC:20241212T080000
DTEND;TZID=UTC:20241212T090000
DTSTAMP:20260419T160356
CREATED:20220801T172038Z
LAST-MODIFIED:20221217T105710Z
UID:3781-1733990400-1733994000@ourladyofthelake.us
SUMMARY:Mass
DESCRIPTION:
URL:https://ourladyofthelake.us/event/mass-2/2024-12-12/
CATEGORIES:Masses
END:VEVENT
BEGIN:VEVENT
DTSTART;TZID=UTC:20241213T080000
DTEND;TZID=UTC:20241213T090000
DTSTAMP:20260419T160356
CREATED:20220801T172038Z
LAST-MODIFIED:20221217T105710Z
UID:3864-1734076800-1734080400@ourladyofthelake.us
SUMMARY:Mass
DESCRIPTION:
URL:https://ourladyofthelake.us/event/mass-2/2024-12-13/
CATEGORIES:Masses
END:VEVENT
BEGIN:VEVENT
DTSTART;TZID=UTC:20241214T163000
DTEND;TZID=UTC:20241214T170000
DTSTAMP:20260419T160356
CREATED:20220711T171029Z
LAST-MODIFIED:20221217T105124Z
UID:3865-1734193800-1734195600@ourladyofthelake.us
SUMMARY:Rosary
DESCRIPTION:
URL:https://ourladyofthelake.us/event/rosary/2024-12-14/
CATEGORIES:Rosary
END:VEVENT
BEGIN:VEVENT
DTSTART;TZID=UTC:20241215T090000
DTEND;TZID=UTC:20241215T100000
DTSTAMP:20260419T160356
CREATED:20220708T214412Z
LAST-MODIFIED:20221217T105957Z
UID:3866-1734253200-1734256800@ourladyofthelake.us
SUMMARY:Mass
DESCRIPTION:
URL:https://ourladyofthelake.us/event/mass-2024-07-21/2024-12-15/
CATEGORIES:Masses
END:VEVENT
BEGIN:VEVENT
DTSTART;TZID=UTC:20241217T080000
DTEND;TZID=UTC:20241217T090000
DTSTAMP:20260419T160356
CREATED:20220801T172038Z
LAST-MODIFIED:20220801T172038Z
UID:4846-1734422400-1734426000@ourladyofthelake.us
SUMMARY:Mass
DESCRIPTION:
URL:https://ourladyofthelake.us/event/mass-2/2024-12-17/
CATEGORIES:Masses
END:VEVENT
BEGIN:VEVENT
DTSTART;TZID=UTC:20241219T080000
DTEND;TZID=UTC:20241219T090000
DTSTAMP:20260419T160356
CREATED:20220801T172038Z
LAST-MODIFIED:20220801T172038Z
UID:4868-1734595200-1734598800@ourladyofthelake.us
SUMMARY:Mass
DESCRIPTION:
URL:https://ourladyofthelake.us/event/mass-2/2024-12-19/
CATEGORIES:Masses
END:VEVENT
BEGIN:VEVENT
DTSTART;TZID=UTC:20241220T080000
DTEND;TZID=UTC:20241220T090000
DTSTAMP:20260419T160356
CREATED:20220801T172038Z
LAST-MODIFIED:20220801T172038Z
UID:4879-1734681600-1734685200@ourladyofthelake.us
SUMMARY:Mass
DESCRIPTION:
URL:https://ourladyofthelake.us/event/mass-2/2024-12-20/
CATEGORIES:Masses
END:VEVENT
BEGIN:VEVENT
DTSTART;TZID=UTC:20241221T163000
DTEND;TZID=UTC:20241221T170000
DTSTAMP:20260419T160356
CREATED:20220711T171029Z
LAST-MODIFIED:20220711T171029Z
UID:4878-1734798600-1734800400@ourladyofthelake.us
SUMMARY:Rosary
DESCRIPTION:
URL:https://ourladyofthelake.us/event/rosary/2024-12-21/
CATEGORIES:Rosary
END:VEVENT
BEGIN:VEVENT
DTSTART;TZID=UTC:20241222T090000
DTEND;TZID=UTC:20241222T100000
DTSTAMP:20260419T160356
CREATED:20220708T214412Z
LAST-MODIFIED:20220708T214412Z
UID:4880-1734858000-1734861600@ourladyofthelake.us
SUMMARY:Mass
DESCRIPTION:
URL:https://ourladyofthelake.us/event/mass-2024-07-21/2024-12-22/
CATEGORIES:Masses
END:VEVENT
BEGIN:VEVENT
DTSTART;TZID=UTC:20241224T080000
DTEND;TZID=UTC:20241224T090000
DTSTAMP:20260419T160356
CREATED:20220801T172038Z
LAST-MODIFIED:20220801T172038Z
UID:4883-1735027200-1735030800@ourladyofthelake.us
SUMMARY:Mass
DESCRIPTION:
URL:https://ourladyofthelake.us/event/mass-2/2024-12-24/
CATEGORIES:Masses
END:VEVENT
END:VCALENDAR